BEGIN:VCALENDAR
VERSION:2.0
PRODID:-//eventon.com NONSGML v1.0//EN
BEGIN:VEVENT
UID:69e88c5754cd0
DTSTAMP:20260422T105239
DTSTART:20221009T120000Z
DTEND:20221009T170000Z
LOCATION:Salle des Sports Rue chemin collier\,  62600 GROFFLIERS
SUMMARY:THÉ DANSANT [09/10/22]
DESCRIPTION: THÉ DANSANT [09/10/22]
END:VEVENT
END:VCALENDAR